BEGIN:VCALENDAR
VERSION:2.0
PRODID:-//Sabre//Sabre VObject 4.5.8//EN
CALSCALE:GREGORIAN
BEGIN:VEVENT
UID:sabre-vobject-3aa4ce1d-9eac-4d36-a3a5-d304457ed963
DTSTAMP:20260424T092559Z
SUMMARY:Friedensgebet
DESCRIPTION:https://pfarreien-bistum-augsburg.df-preview.de/friedensgebet_i
 d1727932
DTSTART;TZID=Europe/Berlin:20260425T180000
DURATION:PT30M
LOCATION:St. Georg
END:VEVENT
END:VCALENDAR
