BEGIN:VCALENDAR
VERSION:2.0
PRODID:-//Sabre//Sabre VObject 4.5.8//EN
CALSCALE:GREGORIAN
BEGIN:VEVENT
UID:sabre-vobject-069f5328-453c-4063-afe9-054e464bd88b
DTSTAMP:20260422T111641Z
SUMMARY:Song-Andacht
DESCRIPTION:https://pfarreien-bistum-augsburg.df-preview.de/song-andacht_id
 1727891
DTSTART;TZID=Europe/Berlin:20260426T170000
DURATION:PT30M
LOCATION:Zwölf Apostel
END:VEVENT
END:VCALENDAR
