BEGIN:VCALENDAR
VERSION:2.0
PRODID:-//Sabre//Sabre VObject 4.5.8//EN
CALSCALE:GREGORIAN
BEGIN:VEVENT
UID:sabre-vobject-81eb4d29-b3a8-4c00-a96c-b85e8647233d
DTSTAMP:20260422T081647Z
SUMMARY:Rosenkranz
DESCRIPTION:https://pfarreien-bistum-augsburg.df-preview.de/rosenkranz_id17
 27818
DTSTART;TZID=Europe/Berlin:20260531T170000
DURATION:PT30M
LOCATION:St. Christophorus
END:VEVENT
END:VCALENDAR
