BEGIN:VCALENDAR
VERSION:2.0
PRODID:-//Sabre//Sabre VObject 4.5.8//EN
CALSCALE:GREGORIAN
BEGIN:VEVENT
UID:sabre-vobject-7aa2816e-17d4-497c-ab0d-480947fed159
DTSTAMP:20260423T041144Z
SUMMARY:Rosenkranz
DESCRIPTION:https://pfarreien-bistum-augsburg.df-preview.de/rosenkranz_id17
 27810
DTSTART;TZID=Europe/Berlin:20260525T170000
DURATION:PT30M
LOCATION:St. Christophorus
END:VEVENT
END:VCALENDAR
