BEGIN:VCALENDAR
VERSION:2.0
PRODID:-//Sabre//Sabre VObject 4.5.8//EN
CALSCALE:GREGORIAN
BEGIN:VEVENT
UID:sabre-vobject-313b08ea-1570-444b-a3a8-fe9c6fe1d40a
DTSTAMP:20260424T024147Z
SUMMARY:Wortgottesdienst
DESCRIPTION:https://pfarreien-bistum-augsburg.df-preview.de/wortgottesdiens
 t_id1727798
DTSTART;TZID=Europe/Berlin:20260516T190000
DURATION:PT30M
LOCATION:St. Christophorus
END:VEVENT
END:VCALENDAR
