BEGIN:VCALENDAR
VERSION:2.0
PRODID:-//Sabre//Sabre VObject 4.5.8//EN
CALSCALE:GREGORIAN
BEGIN:VEVENT
UID:sabre-vobject-1e302d25-0f34-4612-a724-3c6488e5a0f8
DTSTAMP:20260425T170251Z
SUMMARY:St. Jakobus: Messfeier
DESCRIPTION:https://pfarreien-bistum-augsburg.df-preview.de/st-jakobus-mess
 feier_id1727774
DTSTART;TZID=Europe/Berlin:20260507T171500
DURATION:PT30M
LOCATION:St. Christophorus
END:VEVENT
END:VCALENDAR
