BEGIN:VCALENDAR
VERSION:2.0
PRODID:-//Sabre//Sabre VObject 4.5.8//EN
CALSCALE:GREGORIAN
BEGIN:VEVENT
UID:sabre-vobject-bdae66f5-c8fe-4eb6-b3c3-44a4afedd02c
DTSTAMP:20260424T152555Z
SUMMARY:Rosenkranz
DESCRIPTION:https://pfarreien-bistum-augsburg.df-preview.de/rosenkranz_id17
 27763
DTSTART;TZID=Europe/Berlin:20260428T170000
DURATION:PT30M
LOCATION:St. Christophorus
END:VEVENT
END:VCALENDAR
