BEGIN:VCALENDAR
VERSION:2.0
PRODID:-//Sabre//Sabre VObject 4.5.8//EN
CALSCALE:GREGORIAN
BEGIN:VEVENT
UID:sabre-vobject-3cd97001-04f4-43fd-b858-2a053f168b65
DTSTAMP:20260421T192114Z
SUMMARY:Messfeier mit Erstkommunion
DESCRIPTION:https://pfarreien-bistum-augsburg.df-preview.de/messfeier-mit-e
 rstkommunion_id1727751
DTSTART;TZID=Europe/Berlin:20260425T110000
DURATION:PT30M
LOCATION:St. Christophorus
END:VEVENT
END:VCALENDAR
