BEGIN:VCALENDAR
VERSION:2.0
PRODID:-//Sabre//Sabre VObject 4.5.8//EN
CALSCALE:GREGORIAN
BEGIN:VEVENT
UID:sabre-vobject-4ca8d1d3-2a63-49a9-a32d-66616551b785
DTSTAMP:20260421T121203Z
SUMMARY:St.  Jakobus: Messfeier
DESCRIPTION:https://pfarreien-bistum-augsburg.df-preview.de/st-jakobus-mess
 feier_id1727748
DTSTART;TZID=Europe/Berlin:20260423T171500
DURATION:PT30M
LOCATION:St. Christophorus
END:VEVENT
END:VCALENDAR
