BEGIN:VCALENDAR
VERSION:2.0
PRODID:-//Sabre//Sabre VObject 4.5.8//EN
CALSCALE:GREGORIAN
BEGIN:VEVENT
UID:sabre-vobject-f894f6c3-375e-4b72-b8d9-85a892f8eb2e
DTSTAMP:20260420T201736Z
SUMMARY:Gemeinsamer Seniorennachmittag Wasserburg/Nonnenhorn - Vortrag Wei
 ßer Ring - "Betrug an Senioren " im Pfarrsaal Nonnenhorn
DESCRIPTION:https://pfarreien-bistum-augsburg.df-preview.de/gemeinsamer-sen
 iorennachmittag-wasserburg-nonnenhorn-vortrag-weisser-ring-betrug-an-senio
 ren-im-pfarrsaal-nonnenhorn_id1727746
DTSTART;TZID=Europe/Berlin:20260422T143000
DURATION:PT30M
LOCATION:St. Christophorus
END:VEVENT
END:VCALENDAR
