BEGIN:VCALENDAR
VERSION:2.0
PRODID:-//Sabre//Sabre VObject 4.5.8//EN
CALSCALE:GREGORIAN
BEGIN:VEVENT
UID:sabre-vobject-cea6b4d4-27f0-4ffe-8e3b-82e4dab56282
DTSTAMP:20260422T082405Z
SUMMARY:Messfeier für unsere Wohltäter der Pfarrei \n(evtl. mit Barockens
 emble (Andreas Kammenos)
DESCRIPTION:https://pfarreien-bistum-augsburg.df-preview.de/messfeier-fuer-
 unsere-wohltaeter-der-pfarrei-evtl-mit-barockensemble-andreas-kammenos_id1
 727709
DTSTART;TZID=Europe/Berlin:20260531T110000
DURATION:PT30M
LOCATION:St. Johannes der Täufer
END:VEVENT
END:VCALENDAR
