BEGIN:VCALENDAR
VERSION:2.0
PRODID:-//Sabre//Sabre VObject 4.5.8//EN
CALSCALE:GREGORIAN
BEGIN:VEVENT
UID:sabre-vobject-d2d9296e-baad-4dcb-8ea1-6c1f675e6778
DTSTAMP:20260423T015527Z
SUMMARY:Maiandacht in einer Kapelle der Umgebung (sh. Beitrag im Monatsmaga
 zin)
DESCRIPTION:https://pfarreien-bistum-augsburg.df-preview.de/maiandacht-in-e
 iner-kapelle-der-umgebung-sh-beitrag-im-monatsmagazin_id1727702
DTSTART;TZID=Europe/Berlin:20260512T143000
DURATION:PT30M
LOCATION:St. Johannes der Täufer
END:VEVENT
END:VCALENDAR
