BEGIN:VCALENDAR
VERSION:2.0
PRODID:-//Sabre//Sabre VObject 4.5.8//EN
CALSCALE:GREGORIAN
BEGIN:VEVENT
UID:sabre-vobject-636a7fe8-9677-454b-a4c0-b207b8a6b102
DTSTAMP:20260421T172943Z
SUMMARY:Messe
DESCRIPTION:https://pfarreien-bistum-augsburg.df-preview.de/messe_id1727416
DTSTART;TZID=Europe/Berlin:20260419T100000
DURATION:PT30M
LOCATION:St. Johannes Baptist
END:VEVENT
END:VCALENDAR
