BEGIN:VCALENDAR
VERSION:2.0
PRODID:-//Sabre//Sabre VObject 4.5.8//EN
CALSCALE:GREGORIAN
BEGIN:VEVENT
UID:sabre-vobject-97d418ff-001a-42a5-acee-d7a1e38c6ac4
DTSTAMP:20260420T180725Z
SUMMARY:Patrozinium unserer Pfarrkirche St. Markus\nFestgottesdienst für a
 lle Lebenden und Verstorbenen der Pfarrgemeinde
DESCRIPTION:https://pfarreien-bistum-augsburg.df-preview.de/patrozinium-uns
 erer-pfarrkirche-st-markus-festgottesdienst-fuer-alle-lebenden-und-verstor
 benen-der-pfarrgemeinde_id1727194
DTSTART;TZID=Europe/Berlin:20260426T100000
DURATION:PT30M
LOCATION:St. Markus
END:VEVENT
END:VCALENDAR
