BEGIN:VCALENDAR
VERSION:2.0
PRODID:-//Sabre//Sabre VObject 4.5.8//EN
CALSCALE:GREGORIAN
BEGIN:VEVENT
UID:sabre-vobject-17f1c7a0-a1e9-4f0f-9194-cb6f3dbb3b0f
DTSTAMP:20260424T121900Z
SUMMARY:Tauffeier für das Kind Cleo Horn
DESCRIPTION:https://pfarreien-bistum-augsburg.df-preview.de/tauffeier-fuer-
 das-kind-cleo-horn_id1727154
DTSTART;TZID=Europe/Berlin:20260425T110000
DURATION:PT30M
LOCATION:Hlgst. Dreifaltigkeit
END:VEVENT
END:VCALENDAR
