BEGIN:VCALENDAR
VERSION:2.0
PRODID:-//Sabre//Sabre VObject 4.5.8//EN
CALSCALE:GREGORIAN
BEGIN:VEVENT
UID:sabre-vobject-647916d9-a81d-49e1-b699-a97ce44d64ef
DTSTAMP:20260420T180725Z
SUMMARY:Trauung von Annalena Schleger und Florian Harlander
DESCRIPTION:https://pfarreien-bistum-augsburg.df-preview.de/trauung-von-ann
 alena-schleger-und-florian-harlander_id1727068
DTSTART;TZID=Europe/Berlin:20260425T113000
DURATION:PT30M
LOCATION:Mariä Heimsuchung
END:VEVENT
END:VCALENDAR
