BEGIN:VCALENDAR
VERSION:2.0
PRODID:-//Sabre//Sabre VObject 4.5.8//EN
CALSCALE:GREGORIAN
BEGIN:VEVENT
UID:sabre-vobject-5a75c09e-e704-4e38-98db-2bcfc355005b
DTSTAMP:20260420T180607Z
SUMMARY:Markus-Bittgang
DESCRIPTION:https://pfarreien-bistum-augsburg.df-preview.de/markus-bittgang
 _id1727063
DTSTART;TZID=Europe/Berlin:20260425T190000
DURATION:PT30M
LOCATION:Mariä Heimsuchung
END:VEVENT
END:VCALENDAR
