BEGIN:VCALENDAR
VERSION:2.0
PRODID:-//Sabre//Sabre VObject 4.5.8//EN
CALSCALE:GREGORIAN
BEGIN:VEVENT
UID:sabre-vobject-2de43c67-a034-46ef-b5b2-d4567511509b
DTSTAMP:20260423T094459Z
SUMMARY:anschließend Fahrzeugsegnung
DESCRIPTION:https://pfarreien-bistum-augsburg.df-preview.de/anschliessend-f
 ahrzeugsegnung_id1727011
DTSTART;TZID=Europe/Berlin:20260501T110000
DURATION:PT30M
LOCATION:St. Peter und Paul
END:VEVENT
END:VCALENDAR
