BEGIN:VCALENDAR
VERSION:2.0
PRODID:-//Sabre//Sabre VObject 4.5.8//EN
CALSCALE:GREGORIAN
BEGIN:VEVENT
UID:sabre-vobject-26f8bd91-5f13-4f85-bc7d-7a3dfa605233
DTSTAMP:20260421T094315Z
SUMMARY:Messe
DESCRIPTION:https://pfarreien-bistum-augsburg.df-preview.de/messe_id1726672
DTSTART;TZID=Europe/Berlin:20260421T191500
DURATION:PT30M
LOCATION:St. Michael\, St.-Michaels-Platz\, 86316 Friedberg
END:VEVENT
END:VCALENDAR
