BEGIN:VCALENDAR
VERSION:2.0
PRODID:-//Sabre//Sabre VObject 4.5.8//EN
CALSCALE:GREGORIAN
BEGIN:VEVENT
UID:sabre-vobject-8add4dbf-c069-49a0-8add-6499a2445bb3
DTSTAMP:20260422T140835Z
SUMMARY:Vorabendmesse für Erna Bauer
DESCRIPTION:https://pfarreien-bistum-augsburg.df-preview.de/vorabendmesse-f
 uer-erna-bauer_id1726441
DTSTART;TZID=Europe/Berlin:20260425T183000
DURATION:PT30M
LOCATION:Hlgst. Herz Jesu
END:VEVENT
END:VCALENDAR
