BEGIN:VCALENDAR
VERSION:2.0
PRODID:-//Sabre//Sabre VObject 4.5.8//EN
CALSCALE:GREGORIAN
BEGIN:VEVENT
UID:sabre-vobject-db805953-a453-4848-bcdc-22dc92159e9b
DTSTAMP:20260422T140813Z
SUMMARY:15.00- 18.00 Ewige Anbetung in Schorn
DESCRIPTION:https://pfarreien-bistum-augsburg.df-preview.de/15-00-18-00-ewi
 ge-anbetung-in-schorn_id1725829
DTSTART;TZID=Europe/Berlin:20260424T000000
DURATION:PT30M
LOCATION:St. Magnus
END:VEVENT
END:VCALENDAR
