BEGIN:VCALENDAR
VERSION:2.0
PRODID:-//Sabre//Sabre VObject 4.5.8//EN
CALSCALE:GREGORIAN
BEGIN:VEVENT
UID:sabre-vobject-3b0c697b-5263-46be-8aa6-028eb57fe376
DTSTAMP:20260422T135632Z
SUMMARY:Alpha Kurs im Schloss in Schorn
DESCRIPTION:https://pfarreien-bistum-augsburg.df-preview.de/alpha-kurs-im-s
 chloss-in-schorn_id1725828
DTSTART;TZID=Europe/Berlin:20260422T194500
DURATION:PT30M
LOCATION:St. Magnus
END:VEVENT
END:VCALENDAR
