BEGIN:VCALENDAR
VERSION:2.0
PRODID:-//Sabre//Sabre VObject 4.5.8//EN
CALSCALE:GREGORIAN
BEGIN:VEVENT
UID:sabre-vobject-f1050d17-8ef7-4b00-98f5-b3baa57dc926
DTSTAMP:20260422T000551Z
SUMMARY:Hl. M.:
DESCRIPTION:https://pfarreien-bistum-augsburg.df-preview.de/hl-m_id1725601
DTSTART;TZID=Europe/Berlin:20260422T183000
DURATION:PT30M
LOCATION:St. Martin
END:VEVENT
END:VCALENDAR
