BEGIN:VCALENDAR
VERSION:2.0
PRODID:-//Sabre//Sabre VObject 4.5.8//EN
CALSCALE:GREGORIAN
BEGIN:VEVENT
UID:sabre-vobject-fbe75a81-423f-4238-9117-e2acf719e10f
DTSTAMP:20260421T063953Z
SUMMARY:Morgengebet der Gemeinde
DESCRIPTION:https://pfarreien-bistum-augsburg.df-preview.de/morgengebet-der
 -gemeinde_id1725484
DTSTART;TZID=Europe/Berlin:20260421T080000
DURATION:PT30M
LOCATION:St. Elisabeth
END:VEVENT
END:VCALENDAR
