BEGIN:VCALENDAR
VERSION:2.0
PRODID:-//Sabre//Sabre VObject 4.5.8//EN
CALSCALE:GREGORIAN
BEGIN:VEVENT
UID:sabre-vobject-bf120ff7-6190-40a3-826b-ee33a56e4b97
DTSTAMP:20260420T140431Z
SUMMARY:Hl. Messe für die lebenden und verstorbenen Angehörigen der Pfarr
 ei mit
DESCRIPTION:https://pfarreien-bistum-augsburg.df-preview.de/hl-messe-fuer-d
 ie-lebenden-und-verstorbenen-angehoerigen-der-pfarrei-mit_id1725481
DTSTART;TZID=Europe/Berlin:20260419T093000
DURATION:PT30M
LOCATION:St. Elisabeth
END:VEVENT
END:VCALENDAR
