BEGIN:VCALENDAR
VERSION:2.0
PRODID:-//Sabre//Sabre VObject 4.5.8//EN
CALSCALE:GREGORIAN
BEGIN:VEVENT
UID:sabre-vobject-7038a8f5-7563-474c-ae8d-cc8cc133eaed
DTSTAMP:20260421T075000Z
SUMMARY:Familiengottesdienst (mit den Pfersingern)
DESCRIPTION:https://pfarreien-bistum-augsburg.df-preview.de/familiengottesd
 ienst-mit-den-pfersingern_id1724714
DTSTART;TZID=Europe/Berlin:20260419T103000
DURATION:PT30M
LOCATION:Hlgst. Herz Jesu
END:VEVENT
END:VCALENDAR
