BEGIN:VCALENDAR
VERSION:2.0
PRODID:-//Sabre//Sabre VObject 4.5.8//EN
CALSCALE:GREGORIAN
BEGIN:VEVENT
UID:sabre-vobject-b745b67d-6eff-4144-b0d1-9e233630b20b
DTSTAMP:20260421T015418Z
SUMMARY:Eucharistische Anbetung (bis 10.00 Uhr)
DESCRIPTION:https://pfarreien-bistum-augsburg.df-preview.de/eucharistische-
 anbetung-bis-10-00-uhr_id1724651
DTSTART;TZID=Europe/Berlin:20260421T093000
DURATION:PT30M
LOCATION:Zwölf Apostel
END:VEVENT
END:VCALENDAR
