BEGIN:VCALENDAR
VERSION:2.0
PRODID:-//Sabre//Sabre VObject 4.5.8//EN
CALSCALE:GREGORIAN
BEGIN:VEVENT
UID:sabre-vobject-88d087ab-2557-4f81-b412-478b0166512f
DTSTAMP:20260422T153444Z
SUMMARY:Mütter beten für ihre Kinder
DESCRIPTION:https://pfarreien-bistum-augsburg.df-preview.de/muetter-beten-f
 uer-ihre-kinder_id1724644
DTSTART;TZID=Europe/Berlin:20260420T100000
DURATION:PT30M
LOCATION:Zwölf Apostel
END:VEVENT
END:VCALENDAR
