BEGIN:VCALENDAR
VERSION:2.0
PRODID:-//Sabre//Sabre VObject 4.5.8//EN
CALSCALE:GREGORIAN
BEGIN:VEVENT
UID:sabre-vobject-e119b669-1964-4392-97a4-c5f7cffa56d6
DTSTAMP:20260424T162120Z
SUMMARY:Abendmesse
DESCRIPTION:https://pfarreien-bistum-augsburg.df-preview.de/abendmesse_id17
 24608
DTSTART;TZID=Europe/Berlin:20260423T180000
DURATION:PT30M
LOCATION:Heilig Geist
END:VEVENT
END:VCALENDAR
