BEGIN:VCALENDAR
VERSION:2.0
PRODID:-//Sabre//Sabre VObject 4.5.8//EN
CALSCALE:GREGORIAN
BEGIN:VEVENT
UID:sabre-vobject-33c3b29d-de1b-4537-a0eb-31a0800c4968
DTSTAMP:20260422T190052Z
SUMMARY:Rosenkranz - um Priester- und Ordensberufungen
DESCRIPTION:https://pfarreien-bistum-augsburg.df-preview.de/rosenkranz-um-p
 riester-und-ordensberufungen_id1723913
DTSTART;TZID=Europe/Berlin:20260430T183000
DURATION:PT30M
LOCATION:St. Georg
END:VEVENT
END:VCALENDAR
