BEGIN:VCALENDAR
VERSION:2.0
PRODID:-//Sabre//Sabre VObject 4.5.8//EN
CALSCALE:GREGORIAN
BEGIN:VEVENT
UID:sabre-vobject-da391f9f-ff4f-4eda-9b7d-8865f54cb0c0
DTSTAMP:20260422T190051Z
SUMMARY:Beichtgelegenheit + Stille Anbetung
DESCRIPTION:https://pfarreien-bistum-augsburg.df-preview.de/beichtgelegenhe
 it-stille-anbetung_id1723912
DTSTART;TZID=Europe/Berlin:20260430T180000
DURATION:PT30M
LOCATION:St. Georg
END:VEVENT
END:VCALENDAR
