BEGIN:VCALENDAR
VERSION:2.0
PRODID:-//Sabre//Sabre VObject 4.5.8//EN
CALSCALE:GREGORIAN
BEGIN:VEVENT
UID:sabre-vobject-b020bb52-3db6-42b5-9d0a-4003c35bbeab
DTSTAMP:20260421T171545Z
SUMMARY:Taizégebet
DESCRIPTION:https://pfarreien-bistum-augsburg.df-preview.de/taizegebet_id17
 23898
DTSTART;TZID=Europe/Berlin:20260424T193000
DURATION:PT30M
LOCATION:St. Georg
END:VEVENT
END:VCALENDAR
