BEGIN:VCALENDAR
VERSION:2.0
PRODID:-//Sabre//Sabre VObject 4.5.8//EN
CALSCALE:GREGORIAN
BEGIN:VEVENT
UID:sabre-vobject-428e45a1-0499-4871-8735-b0255e51a1c7
DTSTAMP:20260421T164457Z
SUMMARY:Hl. Messe
DESCRIPTION:https://pfarreien-bistum-augsburg.df-preview.de/hl-messe_id1723
 879
DTSTART;TZID=Europe/Berlin:20260419T080000
DURATION:PT30M
LOCATION:St. Georg
END:VEVENT
END:VCALENDAR
