BEGIN:VCALENDAR
VERSION:2.0
PRODID:-//Sabre//Sabre VObject 4.5.8//EN
CALSCALE:GREGORIAN
BEGIN:VEVENT
UID:sabre-vobject-0bfe976a-0c4b-4c73-95a4-988026ae1870
DTSTAMP:20260420T215038Z
SUMMARY:Rosenkranz
DESCRIPTION:https://pfarreien-bistum-augsburg.df-preview.de/rosenkranz_id17
 23706
DTSTART;TZID=Europe/Berlin:20260430T175500
DURATION:PT30M
LOCATION:St. Martin
END:VEVENT
END:VCALENDAR
