BEGIN:VCALENDAR
VERSION:2.0
PRODID:-//Sabre//Sabre VObject 4.5.8//EN
CALSCALE:GREGORIAN
BEGIN:VEVENT
UID:sabre-vobject-e527aa97-3bd5-47e2-8b90-7d641742ad80
DTSTAMP:20260420T084100Z
SUMMARY:Heilige Messe anschl. Eucharistische Anbetung und Lobpreismusik bis
  20 Uhr
DESCRIPTION:https://pfarreien-bistum-augsburg.df-preview.de/heilige-messe-a
 nschl-eucharistische-anbetung-und-lobpreismusik-bis-20-uhr_id1723705
DTSTART;TZID=Europe/Berlin:20260427T183000
DURATION:PT30M
LOCATION:St. Martin
END:VEVENT
END:VCALENDAR
