BEGIN:VCALENDAR
VERSION:2.0
PRODID:-//Sabre//Sabre VObject 4.5.8//EN
CALSCALE:GREGORIAN
BEGIN:VEVENT
UID:sabre-vobject-649cd862-8b4e-4245-8be5-b664c6a5ecca
DTSTAMP:20260421T175815Z
SUMMARY:Heilige Messe
DESCRIPTION:https://pfarreien-bistum-augsburg.df-preview.de/heilige-messe_i
 d1723661
DTSTART;TZID=Europe/Berlin:20260430T083000
DURATION:PT30M
LOCATION:St. Konrad
END:VEVENT
END:VCALENDAR
