BEGIN:VCALENDAR
VERSION:2.0
PRODID:-//Sabre//Sabre VObject 4.5.8//EN
CALSCALE:GREGORIAN
BEGIN:VEVENT
UID:sabre-vobject-2095a821-42c0-422a-91fa-104640430726
DTSTAMP:20260421T125528Z
SUMMARY:Dankandacht zur Hl. Erstkommunion und Segnung der Andachtsgegenstä
 nde
DESCRIPTION:https://pfarreien-bistum-augsburg.df-preview.de/dankandacht-zur
 -hl-erstkommunion-und-segnung-der-andachtsgegenstaende_id1723347
DTSTART;TZID=Europe/Berlin:20260419T170000
DURATION:PT30M
LOCATION:St. Vitus
END:VEVENT
END:VCALENDAR
