BEGIN:VCALENDAR
VERSION:2.0
PRODID:-//Sabre//Sabre VObject 4.5.8//EN
CALSCALE:GREGORIAN
BEGIN:VEVENT
UID:sabre-vobject-f9b80387-369c-42e0-bf59-75766ec4e0fa
DTSTAMP:20260421T181057Z
SUMMARY:Familiengottesdienst mit  P. Tobias Merkt OSB\nMusik: Akzente
DESCRIPTION:https://pfarreien-bistum-augsburg.df-preview.de/familiengottesd
 ienst-mit-p-tobias-merkt-osb-musik-akzente_id1723128
DTSTART;TZID=Europe/Berlin:20260426T101500
DURATION:PT30M
LOCATION:St. Martin
END:VEVENT
END:VCALENDAR
