BEGIN:VCALENDAR
VERSION:2.0
PRODID:-//Sabre//Sabre VObject 4.5.8//EN
CALSCALE:GREGORIAN
BEGIN:VEVENT
UID:sabre-vobject-4f9d2c91-7fbc-4401-b34d-6e5c9d467ae5
DTSTAMP:20260421T213337Z
SUMMARY:Heilige Messe
DESCRIPTION:https://pfarreien-bistum-augsburg.df-preview.de/heilige-messe_i
 d1722765
DTSTART;TZID=Europe/Berlin:20260419T110000
DURATION:PT30M
LOCATION:St. Martin
END:VEVENT
END:VCALENDAR
