BEGIN:VCALENDAR
VERSION:2.0
PRODID:-//Sabre//Sabre VObject 4.5.8//EN
CALSCALE:GREGORIAN
BEGIN:VEVENT
UID:sabre-vobject-0ba010b1-41b8-4779-8330-5cb8a7f05b15
DTSTAMP:20260422T023901Z
SUMMARY:Heilige Messe
DESCRIPTION:https://pfarreien-bistum-augsburg.df-preview.de/heilige-messe_i
 d1722552
DTSTART;TZID=Europe/Berlin:20260423T071500
DURATION:PT30M
LOCATION:St. Vitus und Katharina
END:VEVENT
END:VCALENDAR
