BEGIN:VCALENDAR
VERSION:2.0
PRODID:-//Sabre//Sabre VObject 4.5.8//EN
CALSCALE:GREGORIAN
BEGIN:VEVENT
UID:sabre-vobject-4fe50150-eab9-4512-b419-1e821914893a
DTSTAMP:20260420T232913Z
SUMMARY:Eucharistiefeier
DESCRIPTION:https://pfarreien-bistum-augsburg.df-preview.de/eucharistiefeie
 r_id1722120
DTSTART;TZID=Europe/Berlin:20260425T190000
DURATION:PT30M
LOCATION:St. Philippus und Jakobus\, Stiftsberg 15\, 87730 Bad Grönenbach
END:VEVENT
END:VCALENDAR
