BEGIN:VCALENDAR
VERSION:2.0
PRODID:-//Sabre//Sabre VObject 4.5.8//EN
CALSCALE:GREGORIAN
BEGIN:VEVENT
UID:sabre-vobject-23f1e33a-a120-4adb-ab64-4ea312af2659
DTSTAMP:20260420T163634Z
SUMMARY:Trauung von Christiane Niebler und Philip de Buhr
DESCRIPTION:https://pfarreien-bistum-augsburg.df-preview.de/trauung-von-chr
 istiane-niebler-und-philip-de-buhr_id1721688
DTSTART;TZID=Europe/Berlin:20260502T123000
DURATION:PT30M
LOCATION:Kuratie St. Johannes Baptist\, Klosterstr. 1\, 86695 Allmannshofen
 -Holzen
END:VEVENT
END:VCALENDAR
