BEGIN:VCALENDAR
VERSION:2.0
PRODID:-//Sabre//Sabre VObject 4.5.8//EN
CALSCALE:GREGORIAN
BEGIN:VEVENT
UID:sabre-vobject-b521e8de-39c3-4fa9-b73a-ea00284a065f
DTSTAMP:20260420T113137Z
SUMMARY:Heilige Messe
DESCRIPTION:https://pfarreien-bistum-augsburg.df-preview.de/heilige-messe_i
 d1721685
DTSTART;TZID=Europe/Berlin:20260428T070000
DURATION:PT30M
LOCATION:Kuratie St. Johannes Baptist\, Klosterstr. 1\, 86695 Allmannshofen
 -Holzen
END:VEVENT
END:VCALENDAR
