BEGIN:VCALENDAR
VERSION:2.0
PRODID:-//Sabre//Sabre VObject 4.5.8//EN
CALSCALE:GREGORIAN
BEGIN:VEVENT
UID:sabre-vobject-ffa3e732-91f7-4efa-97d4-4b82239f846a
DTSTAMP:20260423T170327Z
SUMMARY:Beichtgelegenheit
DESCRIPTION:https://pfarreien-bistum-augsburg.df-preview.de/beichtgelegenhe
 it_id1721571
DTSTART;TZID=Europe/Berlin:20260502T100000
DURATION:PT30M
LOCATION:Herz Mariä
END:VEVENT
END:VCALENDAR
