BEGIN:VCALENDAR
VERSION:2.0
PRODID:-//Sabre//Sabre VObject 4.5.8//EN
CALSCALE:GREGORIAN
BEGIN:VEVENT
UID:sabre-vobject-887d53c0-c6af-47ea-9e24-c631886eec07
DTSTAMP:20260423T100515Z
SUMMARY:Hl. Messe im Haus Vinzenz
DESCRIPTION:https://pfarreien-bistum-augsburg.df-preview.de/hl-messe-im-hau
 s-vinzenz_id1721565
DTSTART;TZID=Europe/Berlin:20260429T093000
DURATION:PT30M
LOCATION:Herz Mariä
END:VEVENT
END:VCALENDAR
