BEGIN:VCALENDAR
VERSION:2.0
PRODID:-//Sabre//Sabre VObject 4.5.8//EN
CALSCALE:GREGORIAN
BEGIN:VEVENT
UID:sabre-vobject-8e4c1b68-5d56-4082-8de2-4bded5517af4
DTSTAMP:20260420T154451Z
SUMMARY:Heilige Messe anschl. Maibaumsegnung
DESCRIPTION:https://pfarreien-bistum-augsburg.df-preview.de/heilige-messe-a
 nschl-maibaumsegnung_id1721433
DTSTART;TZID=Europe/Berlin:20260501T091500
DURATION:PT30M
LOCATION:Mariä Reinigung
END:VEVENT
END:VCALENDAR
