BEGIN:VCALENDAR
VERSION:2.0
PRODID:-//Sabre//Sabre VObject 4.5.8//EN
CALSCALE:GREGORIAN
BEGIN:VEVENT
UID:sabre-vobject-89e612a3-7e36-400f-b85f-acbbad2bd828
DTSTAMP:20260422T193722Z
SUMMARY:Heilige Messe für Frieden in der Welt
DESCRIPTION:https://pfarreien-bistum-augsburg.df-preview.de/heilige-messe-f
 uer-frieden-in-der-welt_id1721191
DTSTART;TZID=Europe/Berlin:20260422T183000
DURATION:PT30M
LOCATION:St. Georg\, Schulstr. 4\, 86707 Westendorf
END:VEVENT
END:VCALENDAR
