BEGIN:VCALENDAR
VERSION:2.0
PRODID:-//Sabre//Sabre VObject 4.5.8//EN
CALSCALE:GREGORIAN
BEGIN:VEVENT
UID:sabre-vobject-3e6a3063-2dfc-41e2-b802-655ee755ec87
DTSTAMP:20260420T140425Z
SUMMARY:Heilige Messe
DESCRIPTION:https://pfarreien-bistum-augsburg.df-preview.de/heilige-messe_i
 d1720764
DTSTART;TZID=Europe/Berlin:20260419T100000
DURATION:PT30M
LOCATION:St. Ulrich\, Gartenweg 30\, 87600 Kaufbeuren
END:VEVENT
END:VCALENDAR
