BEGIN:VCALENDAR
VERSION:2.0
PRODID:-//Sabre//Sabre VObject 4.5.8//EN
CALSCALE:GREGORIAN
BEGIN:VEVENT
UID:sabre-vobject-fd3398f1-6d75-4d39-983a-dcc00c7cd17e
DTSTAMP:20260422T192409Z
SUMMARY:Heilige Messe\, anschl. Aussetzung des Allerheiligsten\; \nStille A
 nbetung bis 11:45 Uhr
DESCRIPTION:https://pfarreien-bistum-augsburg.df-preview.de/heilige-messe-a
 nschl-aussetzung-des-allerheiligsten-stille-anbetung-bis-11-45-uhr_id17206
 80
DTSTART;TZID=Europe/Berlin:20260423T081500
DURATION:PT30M
LOCATION:St. Martin
END:VEVENT
END:VCALENDAR
