BEGIN:VCALENDAR
VERSION:2.0
PRODID:-//Sabre//Sabre VObject 4.5.8//EN
CALSCALE:GREGORIAN
BEGIN:VEVENT
UID:sabre-vobject-2b2ebcd6-0ac6-4f75-9458-2e98f950b89b
DTSTAMP:20260424T152550Z
SUMMARY:Wort-Gottes-Feier
DESCRIPTION:https://pfarreien-bistum-augsburg.df-preview.de/wort-gottes-fei
 er_id1720678
DTSTART;TZID=Europe/Berlin:20260422T180000
DURATION:PT30M
LOCATION:St. Martin
END:VEVENT
END:VCALENDAR
